BEGIN:VCALENDAR
VERSION:2.0
PRODID:-//Sabre//Sabre VObject 4.5.8//EN
CALSCALE:GREGORIAN
BEGIN:VEVENT
UID:sabre-vobject-c591f3ae-03a0-4cf5-9424-1682862a8001
DTSTAMP:20260420T152245Z
SUMMARY:Navigating USAJOBS
DESCRIPTION:
X-ALT-DESC:FMTTYPE=text/html:<!DOCTYPE HTML PUBLIC "-//W3C//DTD HTML 3.2//E
 N"><HTML></HTML>
CREATED;TZID=America/Los_Angeles:20230530T203350
URL;VALUE=URI:https://presidio.armymwr.com/calendar/event
DTSTART;TZID=America/Los_Angeles:20220419T130000
DTEND;TZID=America/Los_Angeles:20220419T143000
SEQUENCE:0
END:VEVENT
END:VCALENDAR
