BEGIN:VCALENDAR
VERSION:2.0
PRODID:-//Sabre//Sabre VObject 4.5.8//EN
CALSCALE:GREGORIAN
BEGIN:VEVENT
UID:sabre-vobject-8aba008f-17fd-43fd-b38f-6997d70de343
DTSTAMP:20260422T094250Z
SUMMARY:Zumba
DESCRIPTION:Zumba is a high-energy dance fitness program designed for EVERY
 BODY!&nbsp\;\n\n&nbsp\;\n
X-ALT-DESC:FMTTYPE=text/html:<!DOCTYPE HTML PUBLIC "-//W3C//DTD HTML 3.2//E
 N"><HTML><p>Zumba is a high-energy dance fitness program designed for EVER
 YBODY!&nbsp\;</p>\n\n<p>&nbsp\;</p>\n</HTML>
CREATED;TZID=America/Los_Angeles:20260227T114508
URL;VALUE=URI:https://presidio.armymwr.com/calendar/event
DTSTART;TZID=America/Los_Angeles:20210720T170000
DTEND;TZID=America/Los_Angeles:20210720T180000
SEQUENCE:0
END:VEVENT
END:VCALENDAR
