BEGIN:VCALENDAR
VERSION:2.0
PRODID:-//Sabre//Sabre VObject 4.5.8//EN
CALSCALE:GREGORIAN
BEGIN:VEVENT
UID:sabre-vobject-1116663f-6df8-4823-8eb7-55d1c4f30768
DTSTAMP:20260421T133009Z
SUMMARY:The 5 Love Languages of Teenagers
DESCRIPTION:How to talk to your teen.\n
X-ALT-DESC:FMTTYPE=text/html:<!DOCTYPE HTML PUBLIC "-//W3C//DTD HTML 3.2//E
 N"><HTML><p>How to talk to your teen.</p>\n</HTML>
CREATED;TZID=America/Los_Angeles:20200410T072722
URL;VALUE=URI:https://presidio.armymwr.com/calendar/event
DTSTART;TZID=America/Los_Angeles:20200422T180000
DTEND;TZID=America/Los_Angeles:20200422T193000
SEQUENCE:0
END:VEVENT
END:VCALENDAR
