BEGIN:VCALENDAR
VERSION:2.0
PRODID:-//Sabre//Sabre VObject 4.5.8//EN
CALSCALE:GREGORIAN
BEGIN:VEVENT
UID:sabre-vobject-f3a949a6-9909-4491-8cdf-27f7e9444f7c
DTSTAMP:20260421T133009Z
SUMMARY:Mini and Me Yoga
DESCRIPTION:Bond with your baby!\n
X-ALT-DESC:FMTTYPE=text/html:<!DOCTYPE HTML PUBLIC "-//W3C//DTD HTML 3.2//E
 N"><HTML><p>Bond with your baby!</p>\n</HTML>
CREATED;TZID=America/Los_Angeles:20200225T121946
URL;VALUE=URI:https://presidio.armymwr.com/calendar/event
DTSTART;TZID=America/Los_Angeles:20200416T090000
DTEND;TZID=America/Los_Angeles:20200416T100000
SEQUENCE:0
END:VEVENT
BEGIN:VEVENT
UID:sabre-vobject-8a22f148-0f88-4d38-a684-555f1ed322c5
DTSTAMP:20260421T133009Z
SUMMARY:Mini and Me Yoga
DESCRIPTION:Bond with your baby!\n
X-ALT-DESC:FMTTYPE=text/html:<!DOCTYPE HTML PUBLIC "-//W3C//DTD HTML 3.2//E
 N"><HTML><p>Bond with your baby!</p>\n</HTML>
CREATED;TZID=America/Los_Angeles:20200225T121946
URL;VALUE=URI:https://presidio.armymwr.com/calendar/event
DTSTART;TZID=America/Los_Angeles:20200416T100000
DTEND;TZID=America/Los_Angeles:20200416T110000
SEQUENCE:1
END:VEVENT
END:VCALENDAR
