BEGIN:VCALENDAR
VERSION:2.0
PRODID:-//Sabre//Sabre VObject 4.5.8//EN
CALSCALE:GREGORIAN
BEGIN:VEVENT
UID:sabre-vobject-adfe7ef9-adda-4e25-92aa-8b505e414152
DTSTAMP:20260422T000023Z
SUMMARY:Couples Connection
DESCRIPTION:Addressing Conflict\n
X-ALT-DESC:FMTTYPE=text/html:<!DOCTYPE HTML PUBLIC "-//W3C//DTD HTML 3.2//E
 N"><HTML><p>Addressing Conflict</p>\n</HTML>
CREATED;TZID=America/Los_Angeles:20200203T114025
URL;VALUE=URI:https://presidio.armymwr.com/calendar/event
DTSTART;TZID=America/Los_Angeles:20200408T173000
DTEND;TZID=America/Los_Angeles:20200408T193000
SEQUENCE:0
END:VEVENT
END:VCALENDAR
