BEGIN:VCALENDAR
VERSION:2.0
PRODID:-//Sabre//Sabre VObject 4.5.8//EN
CALSCALE:GREGORIAN
BEGIN:VEVENT
UID:sabre-vobject-941b34ad-43cc-44ee-bc61-11513ecb741a
DTSTAMP:20260422T081812Z
SUMMARY:Intramural Soccer Coaches Meeting
DESCRIPTION:Coaches meeting.\n
X-ALT-DESC:FMTTYPE=text/html:<!DOCTYPE HTML PUBLIC "-//W3C//DTD HTML 3.2//E
 N"><HTML><p>Coaches meeting.</p>\n</HTML>
CREATED;TZID=America/Los_Angeles:20200106T111511
URL;VALUE=URI:https://presidio.armymwr.com/calendar/event
DTSTART;TZID=America/Los_Angeles:20200401T000000
DTEND;TZID=America/Los_Angeles:20200401T235959
SEQUENCE:0
END:VEVENT
END:VCALENDAR
