BEGIN:VCALENDAR
VERSION:2.0
PRODID:-//Sabre//Sabre VObject 4.5.8//EN
CALSCALE:GREGORIAN
BEGIN:VEVENT
UID:sabre-vobject-eca5a130-8370-4d68-bec7-644b3c1f8f4e
DTSTAMP:20260423T171703Z
SUMMARY:Yoga Class
DESCRIPTION:Relax and Restore with Yoga!\n
X-ALT-DESC:FMTTYPE=text/html:<!DOCTYPE HTML PUBLIC "-//W3C//DTD HTML 3.2//E
 N"><HTML><p>Relax and Restore with Yoga!</p>\n</HTML>
CREATED;TZID=America/Los_Angeles:20260227T115821
URL;VALUE=URI:https://presidio.armymwr.com/calendar/event
DTSTART;TZID=America/Los_Angeles:20250912T163000
DTEND;TZID=America/Los_Angeles:20250912T173000
SEQUENCE:0
END:VEVENT
END:VCALENDAR
